BEGIN:VCALENDAR
VERSION:2.0
PRODID:-//C.W. Henry School PTA - ECPv6.15.20//NONSGML v1.0//EN
CALSCALE:GREGORIAN
METHOD:PUBLISH
X-WR-CALNAME:C.W. Henry School PTA
X-ORIGINAL-URL:https://www.cwhenrypta.org
X-WR-CALDESC:Events for C.W. Henry School PTA
REFRESH-INTERVAL;VALUE=DURATION:PT1H
X-Robots-Tag:noindex
X-PUBLISHED-TTL:PT1H
BEGIN:VTIMEZONE
TZID:America/New_York
BEGIN:DAYLIGHT
TZOFFSETFROM:-0500
TZOFFSETTO:-0400
TZNAME:EDT
DTSTART:20180311T070000
END:DAYLIGHT
BEGIN:STANDARD
TZOFFSETFROM:-0400
TZOFFSETTO:-0500
TZNAME:EST
DTSTART:20181104T060000
END:STANDARD
BEGIN:DAYLIGHT
TZOFFSETFROM:-0500
TZOFFSETTO:-0400
TZNAME:EDT
DTSTART:20190310T070000
END:DAYLIGHT
BEGIN:STANDARD
TZOFFSETFROM:-0400
TZOFFSETTO:-0500
TZNAME:EST
DTSTART:20191103T060000
END:STANDARD
BEGIN:DAYLIGHT
TZOFFSETFROM:-0500
TZOFFSETTO:-0400
TZNAME:EDT
DTSTART:20200308T070000
END:DAYLIGHT
BEGIN:STANDARD
TZOFFSETFROM:-0400
TZOFFSETTO:-0500
TZNAME:EST
DTSTART:20201101T060000
END:STANDARD
BEGIN:DAYLIGHT
TZOFFSETFROM:-0500
TZOFFSETTO:-0400
TZNAME:EDT
DTSTART:20210314T070000
END:DAYLIGHT
BEGIN:STANDARD
TZOFFSETFROM:-0400
TZOFFSETTO:-0500
TZNAME:EST
DTSTART:20211107T060000
END:STANDARD
BEGIN:DAYLIGHT
TZOFFSETFROM:-0500
TZOFFSETTO:-0400
TZNAME:EDT
DTSTART:20220313T070000
END:DAYLIGHT
BEGIN:STANDARD
TZOFFSETFROM:-0400
TZOFFSETTO:-0500
TZNAME:EST
DTSTART:20221106T060000
END:STANDARD
BEGIN:DAYLIGHT
TZOFFSETFROM:-0500
TZOFFSETTO:-0400
TZNAME:EDT
DTSTART:20230312T070000
END:DAYLIGHT
BEGIN:STANDARD
TZOFFSETFROM:-0400
TZOFFSETTO:-0500
TZNAME:EST
DTSTART:20231105T060000
END:STANDARD
BEGIN:DAYLIGHT
TZOFFSETFROM:-0500
TZOFFSETTO:-0400
TZNAME:EDT
DTSTART:20240310T070000
END:DAYLIGHT
BEGIN:STANDARD
TZOFFSETFROM:-0400
TZOFFSETTO:-0500
TZNAME:EST
DTSTART:20241103T060000
END:STANDARD
BEGIN:DAYLIGHT
TZOFFSETFROM:-0500
TZOFFSETTO:-0400
TZNAME:EDT
DTSTART:20250309T070000
END:DAYLIGHT
BEGIN:STANDARD
TZOFFSETFROM:-0400
TZOFFSETTO:-0500
TZNAME:EST
DTSTART:20251102T060000
END:STANDARD
BEGIN:DAYLIGHT
TZOFFSETFROM:-0500
TZOFFSETTO:-0400
TZNAME:EDT
DTSTART:20260308T070000
END:DAYLIGHT
BEGIN:STANDARD
TZOFFSETFROM:-0400
TZOFFSETTO:-0500
TZNAME:EST
DTSTART:20261101T060000
END:STANDARD
BEGIN:DAYLIGHT
TZOFFSETFROM:-0500
TZOFFSETTO:-0400
TZNAME:EDT
DTSTART:20270314T070000
END:DAYLIGHT
BEGIN:STANDARD
TZOFFSETFROM:-0400
TZOFFSETTO:-0500
TZNAME:EST
DTSTART:20271107T060000
END:STANDARD
END:VTIMEZONE
BEGIN:VEVENT
DTSTART;VALUE=DATE:20260130
DTEND;VALUE=DATE:20260131
DTSTAMP:20260425T111936
CREATED:20260113T230406Z
LAST-MODIFIED:20260113T230406Z
UID:6220-1769731200-1769817599@www.cwhenrypta.org
SUMMARY:Movie Night
DESCRIPTION:More details coming soon.
URL:https://www.cwhenrypta.org/event/movie-night/
LOCATION:C.W. Henry School\, 601 Carpenter Lane\, Philadelphia\, PA\, 19119\, United States
CATEGORIES:Family Fun,PTA Event
ATTACH;FMTTYPE=image/png:https://www.cwhenrypta.org/wp-content/uploads/2025/10/details-coming-soon.png
END:VEVENT
BEGIN:VEVENT
DTSTART;TZID=America/New_York:20251106T173000
DTEND;TZID=America/New_York:20251106T193000
DTSTAMP:20260425T111936
CREATED:20251002T020604Z
LAST-MODIFIED:20251027T210814Z
UID:5978-1762450200-1762457400@www.cwhenrypta.org
SUMMARY:Fall Henry Community Night - 2025
DESCRIPTION:DATE:  Thursday\, November 6\, 2025 \nTIME:  5:30–7:30pm \nThis event is FREE! A kid-friendly dinner will provided (with vegetarian and gluten-free options) and there will be giveaways and raffle prizes! \nLOCATION:  C.W. Henry School – 601 Carpenter Lane\, 19119 \nORGANIZED BY: C.W. Henry School staff\, C.W. Henry PTA and School Advisory Committee (SAC) \nWHAT IS THIS ABOUT?    This fun and family-friendly event will be focused on celebrating our community and sharing resources for families and young readers. \nWHO SHOULD ATTEND?    This event is open to C.W. Henry School students together with their parents/guardians. \nAGENDA: \n\n5:30 pm: Registration & Check-in Opens\n5:30 pm: Community Fair & Literacy Fun Zone Opens\n6:15 pm: Dinner served in cafeteria\n7:15 pm: Raffle winners announced\n7:30 pm: Closing & Cleanup\n\n  \nRSVP HERE\nSIGN UP TO VOLUNTEER HERE
URL:https://www.cwhenrypta.org/event/fall-henry-community-night-2025/
LOCATION:C.W. Henry School\, 601 Carpenter Lane\, Philadelphia\, PA\, 19119\, United States
CATEGORIES:Family Fun,PTA Event
ATTACH;FMTTYPE=image/png:https://www.cwhenrypta.org/wp-content/uploads/2025/10/FALL-COMMUNITY-NIGHT-2025.png
END:VEVENT
BEGIN:VEVENT
DTSTART;TZID=America/New_York:20250927T090000
DTEND;TZID=America/New_York:20250927T120000
DTSTAMP:20260425T111936
CREATED:20250724T140348Z
LAST-MODIFIED:20250724T211841Z
UID:5896-1758963600-1758974400@www.cwhenrypta.org
SUMMARY:Fun Run - 2025
DESCRIPTION:CW Henry Fun Run – September 27\, 2025 Join us for a day of fitness\, fun\, and community spirit at the CW Henry Fun Run! \nWhether you’re a seasoned runner or just want to enjoy a walk with friends\, there’s something for everyone:👟 1-Mile Fun Run – $15🏅 5K Run – $30 \nBring your family\, invite your neighbors\, and lace up those sneakers – all ages and abilities are welcome! \nAll proceeds benefit the CW Henry PTA\, helping support programs\, resources\, and events that enrich our school community. \nDon’t miss this chance to move your body and support a great cause. Let’s run for Henry! \nRegister HERE
URL:https://www.cwhenrypta.org/event/fun-run-2025/
LOCATION:C.W. Henry School\, 601 Carpenter Lane\, Philadelphia\, PA\, 19119\, United States
CATEGORIES:Family Fun,Fundraiser,Local Event,PTA Event
ATTACH;FMTTYPE=image/png:https://www.cwhenrypta.org/wp-content/uploads/2025/07/fun-run-large.png
END:VEVENT
BEGIN:VEVENT
DTSTART;TZID=America/New_York:20250605T083000
DTEND;TZID=America/New_York:20250605T151500
DTSTAMP:20260425T111936
CREATED:20250505T151651Z
LAST-MODIFIED:20250505T151723Z
UID:5767-1749112200-1749136500@www.cwhenrypta.org
SUMMARY:Spring Festival - 2025
DESCRIPTION:Details coming soon – but we need lots of helpers to make this event run smoothly for all grades K-8.  \nSign up to volunteer here: bit.ly/25springfestival.
URL:https://www.cwhenrypta.org/event/spring-festival-2025/
LOCATION:C.W. Henry School\, 601 Carpenter Lane\, Philadelphia\, PA\, 19119\, United States
CATEGORIES:Family Fun,PTA Event,School Event
END:VEVENT
BEGIN:VEVENT
DTSTART;TZID=America/New_York:20250502T173000
DTEND;TZID=America/New_York:20250502T193000
DTSTAMP:20260425T111936
CREATED:20250424T221715Z
LAST-MODIFIED:20250424T221715Z
UID:5740-1746207000-1746214200@www.cwhenrypta.org
SUMMARY:Lower School Dance - 2025
DESCRIPTION:Join us at the C.W. Henry Lower School Dance on Friday\, May 2\, 2025! The dance begins at 5:30 pm and ends at 7:30 pm and takes place in the Henry schoolyard\, which is transformed for one magical evening into a dance floor for kiddos (and parents!) to bust a move! Musical stylings by the one and only DJ Rob. Tickets and meal tickets can be purchased in advance online (recommended!) or in-person on the night of the event.\n\nThis event is 100% volunteer powered—parent/caregiver volunteers are needed!\n\nPurchase your tickets HERE.\n\nSign up to volunteer HERE.
URL:https://www.cwhenrypta.org/event/lower-school-dance-2025/
LOCATION:C.W. Henry School\, 601 Carpenter Lane\, Philadelphia\, PA\, 19119\, United States
CATEGORIES:Family Fun,Fundraiser,PTA Event,School Event
ATTACH;FMTTYPE=image/png:https://www.cwhenrypta.org/wp-content/uploads/2025/04/lower-school-dance-2025.png
END:VEVENT
BEGIN:VEVENT
DTSTART;VALUE=DATE:20241118
DTEND;VALUE=DATE:20241123
DTSTAMP:20260425T111936
CREATED:20241027T164232Z
LAST-MODIFIED:20241027T164232Z
UID:5679-1731888000-1732319999@www.cwhenrypta.org
SUMMARY:Scholastic Fall Book Fair - 2024
DESCRIPTION:Volunteers are needed for daytime shifts in a variety of roles to help one of our school’s biggest fundraisers run smoothly! Please sign up for a shift and know that will you be helping the C. W. Henry PTA to fund school field trips and teacher mini-grants\, \nBonus: graphic novelist Jamar Nicholas will be joining us on Tuesday\, November 19th to sign copies of his latest book\, LEON: WORST FRIENDS FOREVER! \nSign up to volunteer HERE.\n 
URL:https://www.cwhenrypta.org/event/scholastic-fall-book-fair-2024/
LOCATION:C.W. Henry School\, 601 Carpenter Lane\, Philadelphia\, PA\, 19119\, United States
CATEGORIES:Family Fun,Fundraiser,PTA Event
ATTACH;FMTTYPE=image/png:https://www.cwhenrypta.org/wp-content/uploads/2024/10/Book-Fair-Fall-2024.png
END:VEVENT
BEGIN:VEVENT
DTSTART;TZID=America/New_York:20241117T100000
DTEND;TZID=America/New_York:20241117T113000
DTSTAMP:20260425T111936
CREATED:20241027T161811Z
LAST-MODIFIED:20241027T161811Z
UID:5673-1731837600-1731843000@www.cwhenrypta.org
SUMMARY:2nd Grade Fall Gathering
DESCRIPTION:
URL:https://www.cwhenrypta.org/event/2nd-grade-fall-gathering/
LOCATION:Allens Lane Playground\, 601 W. Allens Lane\, Philadelphia\, PA\, 19119\, United States
CATEGORIES:Family Fun
ATTACH;FMTTYPE=image/jpeg:https://www.cwhenrypta.org/wp-content/uploads/2024/10/grade-reps-fall-gathering.jpeg
ORGANIZER;CN="Grade Reps":MAILTO:CWHenryGradeReps@gmail.com
END:VEVENT
BEGIN:VEVENT
DTSTART;TZID=America/New_York:20241107T180000
DTEND;TZID=America/New_York:20241107T203000
DTSTAMP:20260425T111936
CREATED:20241022T154254Z
LAST-MODIFIED:20241022T154254Z
UID:5662-1731002400-1731011400@www.cwhenrypta.org
SUMMARY:Fall Family Fun & Fire Safety Night
DESCRIPTION:Register your family here:  bit.ly/henryfallfiresafety
URL:https://www.cwhenrypta.org/event/fall-family-fun-fire-safety-night/
LOCATION:C.W. Henry School\, 601 Carpenter Lane\, Philadelphia\, PA\, 19119\, United States
CATEGORIES:Family Fun,Local Event,PTA Event
ATTACH;FMTTYPE=image/png:https://www.cwhenrypta.org/wp-content/uploads/2024/10/WEB-Fam-Fun_Fire-Safety-20241107.png
END:VEVENT
BEGIN:VEVENT
DTSTART;TZID=America/New_York:20241019T150000
DTEND;TZID=America/New_York:20241019T170000
DTSTAMP:20260425T111936
CREATED:20241027T161455Z
LAST-MODIFIED:20241027T161455Z
UID:5665-1729350000-1729357200@www.cwhenrypta.org
SUMMARY:4th Grade Fall Gathering
DESCRIPTION:Gathering will take place at the Mt. Airy Playground on the corner of Germantown Avenue and Sedgwick.
URL:https://www.cwhenrypta.org/event/4th-grade-fall-gathering/
LOCATION:Mt. Airy Playground\, 7001 Germantown Avenue\, Philadelphia\, PA\, 19119\, United States
CATEGORIES:Family Fun
ATTACH;FMTTYPE=image/jpeg:https://www.cwhenrypta.org/wp-content/uploads/2024/10/grade-reps-fall-gathering.jpeg
ORGANIZER;CN="Grade Reps":MAILTO:CWHenryGradeReps@gmail.com
END:VEVENT
BEGIN:VEVENT
DTSTART;TZID=America/New_York:20231215T090000
DTEND;TZID=America/New_York:20231215T170000
DTSTAMP:20260425T111936
CREATED:20231119T161647Z
LAST-MODIFIED:20231119T161647Z
UID:5417-1702630800-1702659600@www.cwhenrypta.org
SUMMARY:Bake Sale
DESCRIPTION:Sign up to volunteer HERE.
URL:https://www.cwhenrypta.org/event/bake-sale-2023/
LOCATION:PA
CATEGORIES:Family Fun,Fundraiser,PTA Event
ATTACH;FMTTYPE=image/jpeg:https://www.cwhenrypta.org/wp-content/uploads/2023/11/bake-sale-presentation-2023.jpg
END:VEVENT
BEGIN:VEVENT
DTSTART;TZID=America/New_York:20231117T170000
DTEND;TZID=America/New_York:20231117T200000
DTSTAMP:20260425T111936
CREATED:20231112T220042Z
LAST-MODIFIED:20231112T220042Z
UID:5408-1700240400-1700251200@www.cwhenrypta.org
SUMMARY:PTA Pizza Fundraiser
DESCRIPTION:Check out the menu and pre-order your pizzas HERE.
URL:https://www.cwhenrypta.org/event/pta-pizza-fundraiser/
LOCATION:C.W. Henry School\, 601 Carpenter Lane\, Philadelphia\, PA\, 19119\, United States
CATEGORIES:Family Fun,Fundraiser,Local Event,PTA Event
ATTACH;FMTTYPE=image/jpeg:https://www.cwhenrypta.org/wp-content/uploads/2023/11/PTA-Pizza-Fundraiser-large-20231117.jpg
END:VEVENT
BEGIN:VEVENT
DTSTART;TZID=America/New_York:20231028T140000
DTEND;TZID=America/New_York:20231028T160000
DTSTAMP:20260425T111936
CREATED:20231018T175821Z
LAST-MODIFIED:20231018T180108Z
UID:5392-1698501600-1698508800@www.cwhenrypta.org
SUMMARY:Fall Fest - 2023
DESCRIPTION:Get ready for the most exciting event of the season! Join us for our School Fall Fest on Saturday\, October 28th from 2pm to 4pm.  There will be scarecrow making\, pumpkin decorating\, apple cider\, delicious treats\, and so much more!  Bring your friends and family for a day filled with fun and laughter. Don’t miss out on the autumnal celebration everyone’s been waiting for! \n\n\n\n\n  \nTickets: https://cwhenrypta.memberhub.com/store/items/946920\n \n\nVolunteer: https://www.signupgenius.com/go/10C0848ABA72FA0FC1-45352325-cwhenry#/
URL:https://www.cwhenrypta.org/event/fall-fest-2023/
LOCATION:C.W. Henry School\, 601 Carpenter Lane\, Philadelphia\, PA\, 19119\, United States
CATEGORIES:Family Fun,Fundraiser,PTA Event
ATTACH;FMTTYPE=image/jpeg:https://www.cwhenrypta.org/wp-content/uploads/2023/10/Fall-Fest-large-20231028-.jpg
END:VEVENT
BEGIN:VEVENT
DTSTART;TZID=America/New_York:20230930T080000
DTEND;TZID=America/New_York:20230930T120000
DTSTAMP:20260425T111936
CREATED:20230718T023715Z
LAST-MODIFIED:20230718T023753Z
UID:5215-1696060800-1696075200@www.cwhenrypta.org
SUMMARY:5K Walk/Run - 2023
DESCRIPTION:
URL:https://www.cwhenrypta.org/event/5k-walk-run-2023-2/
LOCATION:C.W. Henry School\, 601 Carpenter Lane\, Philadelphia\, PA\, 19119\, United States
CATEGORIES:Family Fun,Fundraiser,PTA Event
ATTACH;FMTTYPE=image/jpeg:https://www.cwhenrypta.org/wp-content/uploads/2023/07/fun-run-large-20230930.jpg
END:VEVENT
BEGIN:VEVENT
DTSTART;TZID=America/New_York:20230602T080000
DTEND;TZID=America/New_York:20230602T160000
DTSTAMP:20260425T111936
CREATED:20230414T132248Z
LAST-MODIFIED:20230414T134038Z
UID:5156-1685692800-1685721600@www.cwhenrypta.org
SUMMARY:Spring Festival - 2023
DESCRIPTION:Please sign up to volunteer for this event: https://www.signupgenius.com/go/8050f44a9ad2ea4f85-spring2#/
URL:https://www.cwhenrypta.org/event/spring-festival-2023/
LOCATION:C.W. Henry School\, 601 Carpenter Lane\, Philadelphia\, PA\, 19119\, United States
CATEGORIES:Family Fun,PTA Event,School Event
ATTACH;FMTTYPE=image/jpeg:https://www.cwhenrypta.org/wp-content/uploads/2023/04/Spring-Festival-large-2023.jpg
END:VEVENT
BEGIN:VEVENT
DTSTART;TZID=America/New_York:20230505T173000
DTEND;TZID=America/New_York:20230505T193000
DTSTAMP:20260425T111936
CREATED:20230412T204859Z
LAST-MODIFIED:20230412T204859Z
UID:5150-1683307800-1683315000@www.cwhenrypta.org
SUMMARY:Lower School Dance - 2023
DESCRIPTION:
URL:https://www.cwhenrypta.org/event/lower-school-dance-2023/
LOCATION:C.W. Henry School\, 601 Carpenter Lane\, Philadelphia\, PA\, 19119\, United States
CATEGORIES:Family Fun,PTA Event
ATTACH;FMTTYPE=image/jpeg:https://www.cwhenrypta.org/wp-content/uploads/2023/04/lower-school-dance-large-2023.jpg
END:VEVENT
BEGIN:VEVENT
DTSTART;TZID=America/New_York:20221204T090000
DTEND;TZID=America/New_York:20221204T120000
DTSTAMP:20260425T111936
CREATED:20221129T214330Z
LAST-MODIFIED:20221129T214330Z
UID:4962-1670144400-1670155200@www.cwhenrypta.org
SUMMARY:December Clean Up - 2022
DESCRIPTION:
URL:https://www.cwhenrypta.org/event/december-clean-up-2022/
LOCATION:C.W. Henry School\, 601 Carpenter Lane\, Philadelphia\, PA\, 19119\, United States
CATEGORIES:Family Fun
ATTACH;FMTTYPE=image/png:https://www.cwhenrypta.org/wp-content/uploads/2022/11/December-Clean-Up-web-20221204.png
END:VEVENT
BEGIN:VEVENT
DTSTART;TZID=America/New_York:20220611T183000
DTEND;TZID=America/New_York:20220611T213000
DTSTAMP:20260425T111936
CREATED:20220607T011801Z
LAST-MODIFIED:20220607T011801Z
UID:4169-1654972200-1654983000@www.cwhenrypta.org
SUMMARY:Family Movie Night
DESCRIPTION:
URL:https://www.cwhenrypta.org/event/family-movie-night-2022-june/
LOCATION:Kindergarten Playground
CATEGORIES:Family Fun,PTA Event
ATTACH;FMTTYPE=image/jpeg:https://www.cwhenrypta.org/wp-content/uploads/2022/06/Henry-Movie-Night-20220611.jpg
END:VEVENT
BEGIN:VEVENT
DTSTART;TZID=America/New_York:20220514T183000
DTEND;TZID=America/New_York:20220514T213000
DTSTAMP:20260425T111936
CREATED:20220427T011239Z
LAST-MODIFIED:20220427T011239Z
UID:4153-1652553000-1652563800@www.cwhenrypta.org
SUMMARY:Family Movie Night
DESCRIPTION:
URL:https://www.cwhenrypta.org/event/family-movie-night/
LOCATION:Kindergarten Playground
CATEGORIES:Family Fun,PTA Event
ATTACH;FMTTYPE=image/png:https://www.cwhenrypta.org/wp-content/uploads/2022/04/Movie-Night-April-25.png
END:VEVENT
BEGIN:VEVENT
DTSTART;TZID=America/New_York:20220514T090000
DTEND;TZID=America/New_York:20220514T130000
DTSTAMP:20260425T111936
CREATED:20220331T215734Z
LAST-MODIFIED:20220509T152352Z
UID:4138-1652518800-1652533200@www.cwhenrypta.org
SUMMARY:Spring Flea Market
DESCRIPTION:Vendor tickets are $25.  Reserve your tickets HERE.
URL:https://www.cwhenrypta.org/event/spring-flea-market/
LOCATION:C.W. Henry School\, 601 Carpenter Lane\, Philadelphia\, PA\, 19119\, United States
CATEGORIES:Family Fun,Fundraiser,PTA Event
ATTACH;FMTTYPE=image/jpeg:https://www.cwhenrypta.org/wp-content/uploads/2022/03/Spring-Flea-Market-20220507.jpg
END:VEVENT
BEGIN:VEVENT
DTSTART;TZID=America/New_York:20220402T090000
DTEND;TZID=America/New_York:20220402T120000
DTSTAMP:20260425T111936
CREATED:20220314T152015Z
LAST-MODIFIED:20220314T152015Z
UID:4114-1648890000-1648900800@www.cwhenrypta.org
SUMMARY:Spring Cleanup - 2022
DESCRIPTION:
URL:https://www.cwhenrypta.org/event/spring-cleanup-2022/
LOCATION:C.W. Henry School\, 601 Carpenter Lane\, Philadelphia\, PA\, 19119\, United States
CATEGORIES:Family Fun,Local Event
ATTACH;FMTTYPE=image/png:https://www.cwhenrypta.org/wp-content/uploads/2022/03/Henry-Spring-Cleanup-2022-1920-×-1080-px.png
END:VEVENT
BEGIN:VEVENT
DTSTART;TZID=America/New_York:20211219T140000
DTEND;TZID=America/New_York:20211219T160000
DTSTAMP:20260425T111936
CREATED:20210906T171426Z
LAST-MODIFIED:20211209T215532Z
UID:3834-1639922400-1639929600@www.cwhenrypta.org
SUMMARY:Winter Family Fun Night - 2021
DESCRIPTION:Directions: https://wectreehouse.wixsite.com/findyourpath/directions
URL:https://www.cwhenrypta.org/event/winter-family-fun-night-2021/
LOCATION:Wissahickon Environmental Center\, 300 Northwestern Ave\, Philadelphia\, PA\, 19118
CATEGORIES:Family Fun,PTA Event
ATTACH;FMTTYPE=image/png:https://www.cwhenrypta.org/wp-content/uploads/2021/09/Woodsy-Winter-Family-Fun-facebook.png
END:VEVENT
BEGIN:VEVENT
DTSTART;TZID=America/New_York:20211030T150000
DTEND;TZID=America/New_York:20211030T170000
DTSTAMP:20260425T111936
CREATED:20210928T011336Z
LAST-MODIFIED:20211017T154540Z
UID:3884-1635606000-1635613200@www.cwhenrypta.org
SUMMARY:Henry Harvest Day - 2021
DESCRIPTION:To purchase tickets\, please click HERE.
URL:https://www.cwhenrypta.org/event/henry-harvest-day-2021/
LOCATION:C.W. Henry School\, 601 Carpenter Lane\, Philadelphia\, PA\, 19119\, United States
CATEGORIES:Family Fun,Fundraiser,PTA Event
ATTACH;FMTTYPE=image/jpeg:https://www.cwhenrypta.org/wp-content/uploads/2021/10/FallFunWeb2.jpg
END:VEVENT
BEGIN:VEVENT
DTSTART;TZID=America/New_York:20210216T173000
DTEND;TZID=America/New_York:20210216T190000
DTSTAMP:20260425T111936
CREATED:20200916T154451Z
LAST-MODIFIED:20210208T215604Z
UID:3612-1613496600-1613502000@www.cwhenrypta.org
SUMMARY:February 2021 Family Fun Night
DESCRIPTION:Please register for the event HERE.
URL:https://www.cwhenrypta.org/event/february-2021-pta-meeting/
LOCATION:Zoom
CATEGORIES:Family Fun,PTA Event
ATTACH;FMTTYPE=image/png:https://www.cwhenrypta.org/wp-content/uploads/2021/02/Family-Fun-Night-Web-Post-20210216.png
END:VEVENT
BEGIN:VEVENT
DTSTART;TZID=America/New_York:20201020T180000
DTEND;TZID=America/New_York:20201020T200000
DTSTAMP:20260425T111936
CREATED:20200916T180859Z
LAST-MODIFIED:20201020T013142Z
UID:3627-1603216800-1603224000@www.cwhenrypta.org
SUMMARY:Family Fun Night - 2020
DESCRIPTION:We’ll be playing Storybook Character themed Bingo. We encourage children to come dressed as their favorite storybook character. $5 will get you 3 bingo boards and you can buy as many boards as you’d like. Prizes include gift cards\, scented candles\, and more! \nYou can register and buy your boards by sending $$ to https://www.paypal.com/paypalme/henrypta. In the notes\, please type “Virtual Bingo – [your email address]”. All participants will be emailed a link to play in advance of the game. \nIf you would like to contribute to our prizes or if you have any questions\, please contact Fundraising Committee Chair Natasha Broadwater at Natasha.broadwater@icloud.com
URL:https://www.cwhenrypta.org/event/family-fun-night-2020/
LOCATION:Zoom
CATEGORIES:Family Fun,Fundraiser,PTA Event
ATTACH;FMTTYPE=image/png:https://www.cwhenrypta.org/wp-content/uploads/2020/09/Family-Fun-Night-October-2020-1.png
END:VEVENT
BEGIN:VEVENT
DTSTART;TZID=America/New_York:20200310T183000
DTEND;TZID=America/New_York:20200310T200000
DTSTAMP:20260425T111936
CREATED:20200122T032847Z
LAST-MODIFIED:20200310T205228Z
UID:3407-1583865000-1583870400@www.cwhenrypta.org
SUMMARY:Family Fun Night
DESCRIPTION:***Event has been postponed to a future date (TBD)*** \n  \nIn lieu of a PTA meeting this month\, please join us in the cafeteria for games\, crafts\, and karaoke! All family members welcome.
URL:https://www.cwhenrypta.org/event/family-fun-night-april-2020/
LOCATION:C.W. Henry School\, 601 Carpenter Lane\, Philadelphia\, PA\, 19119\, United States
CATEGORIES:Family Fun
ATTACH;FMTTYPE=image/png:https://www.cwhenrypta.org/wp-content/uploads/2020/01/Family-Fun-Night1.png
END:VEVENT
BEGIN:VEVENT
DTSTART;TZID=America/New_York:20191217T183000
DTEND;TZID=America/New_York:20191217T200000
DTSTAMP:20260425T111936
CREATED:20191217T022622Z
LAST-MODIFIED:20191217T022622Z
UID:3243-1576607400-1576612800@www.cwhenrypta.org
SUMMARY:Family Fun Night
DESCRIPTION:In lieu of a PTA meeting this month\, join us in the cafeteria for games\, crafts\, and karaoke to get into the holiday spirit! All family members welcome.
URL:https://www.cwhenrypta.org/event/family-fun-night-3/
LOCATION:C.W. Henry School\, 601 Carpenter Lane\, Philadelphia\, PA\, 19119\, United States
CATEGORIES:Family Fun
ATTACH;FMTTYPE=image/png:https://www.cwhenrypta.org/wp-content/uploads/2019/12/Family-Fun-Night.png
END:VEVENT
BEGIN:VEVENT
DTSTART;TZID=America/New_York:20190831T090000
DTEND;TZID=America/New_York:20190831T110000
DTSTAMP:20260425T111936
CREATED:20190825T040409Z
LAST-MODIFIED:20190825T044053Z
UID:3131-1567242000-1567249200@www.cwhenrypta.org
SUMMARY:Back to School Play Date
DESCRIPTION:The CW Henry PTA is hosting a play date for all families in our upper school yard from 9am – 11am. What a great opportunity to see some familiar faces before the first day of school on September 3rd. We hope to see you there! \nCoffee generously provided by High Point Cafe. \n 
URL:https://www.cwhenrypta.org/event/back-to-school-play-date/
LOCATION:C.W. Henry School\, 601 Carpenter Lane\, Philadelphia\, PA\, 19119\, United States
CATEGORIES:Family Fun
END:VEVENT
BEGIN:VEVENT
DTSTART;TZID=America/New_York:20190416T183000
DTEND;TZID=America/New_York:20190416T200000
DTSTAMP:20260425T111936
CREATED:20180908T174135Z
LAST-MODIFIED:20180908T174135Z
UID:2947-1555439400-1555444800@www.cwhenrypta.org
SUMMARY:Family Fun Night
DESCRIPTION:
URL:https://www.cwhenrypta.org/event/family-fun-night-2/
LOCATION:PA
CATEGORIES:Family Fun,PTA Event
END:VEVENT
BEGIN:VEVENT
DTSTART;TZID=America/New_York:20190322T180000
DTEND;TZID=America/New_York:20190322T200000
DTSTAMP:20260425T111936
CREATED:20180908T174012Z
LAST-MODIFIED:20190224T135925Z
UID:2945-1553277600-1553284800@www.cwhenrypta.org
SUMMARY:Lower School Family Dance
DESCRIPTION:
URL:https://www.cwhenrypta.org/event/lower-school-family-dance/
LOCATION:C.W. Henry School\, 601 Carpenter Lane\, Philadelphia\, PA\, 19119\, United States
CATEGORIES:Family Fun,PTA Event
END:VEVENT
BEGIN:VEVENT
DTSTART;TZID=America/New_York:20190212T183000
DTEND;TZID=America/New_York:20190212T200000
DTSTAMP:20260425T111936
CREATED:20180908T173840Z
LAST-MODIFIED:20180908T173840Z
UID:2943-1549996200-1550001600@www.cwhenrypta.org
SUMMARY:PTA Family Fun Night
DESCRIPTION:
URL:https://www.cwhenrypta.org/event/pta-family-fun-night-6/
LOCATION:PA
CATEGORIES:Family Fun,PTA Event
END:VEVENT
END:VCALENDAR