BEGIN:VCALENDAR
VERSION:2.0
PRODID:-//C.W. Henry School PTA - ECPv6.15.20//NONSGML v1.0//EN
CALSCALE:GREGORIAN
METHOD:PUBLISH
X-ORIGINAL-URL:https://www.cwhenrypta.org
X-WR-CALDESC:Events for C.W. Henry School PTA
REFRESH-INTERVAL;VALUE=DURATION:PT1H
X-Robots-Tag:noindex
X-PUBLISHED-TTL:PT1H
BEGIN:VTIMEZONE
TZID:America/New_York
BEGIN:DAYLIGHT
TZOFFSETFROM:-0500
TZOFFSETTO:-0400
TZNAME:EDT
DTSTART:20240310T070000
END:DAYLIGHT
BEGIN:STANDARD
TZOFFSETFROM:-0400
TZOFFSETTO:-0500
TZNAME:EST
DTSTART:20241103T060000
END:STANDARD
BEGIN:DAYLIGHT
TZOFFSETFROM:-0500
TZOFFSETTO:-0400
TZNAME:EDT
DTSTART:20250309T070000
END:DAYLIGHT
BEGIN:STANDARD
TZOFFSETFROM:-0400
TZOFFSETTO:-0500
TZNAME:EST
DTSTART:20251102T060000
END:STANDARD
BEGIN:DAYLIGHT
TZOFFSETFROM:-0500
TZOFFSETTO:-0400
TZNAME:EDT
DTSTART:20260308T070000
END:DAYLIGHT
BEGIN:STANDARD
TZOFFSETFROM:-0400
TZOFFSETTO:-0500
TZNAME:EST
DTSTART:20261101T060000
END:STANDARD
END:VTIMEZONE
BEGIN:VEVENT
DTSTART;TZID=America/New_York:20251108T093000
DTEND;TZID=America/New_York:20251108T110000
DTSTAMP:20260424T041852
CREATED:20251027T205205Z
LAST-MODIFIED:20251027T205405Z
UID:6114-1762594200-1762599600@www.cwhenrypta.org
SUMMARY:Campus & Garden Cleanup - November 2025
DESCRIPTION:There will be leaves to rake\, litter to pick up\, garden beds to put to sleep for the winter\, and even more to do. We appreciate your help! \nGloves\, trash bags\, brooms\, rakes\, and gardening tools will be provided. \nKids are welcome to come play! Weavers Way working member hours are available for co-op members. \n  \nVOLUNTEER SIGN UP
URL:https://www.cwhenrypta.org/event/campus-garden-cleanup-november-2025/
LOCATION:C.W. Henry School\, 601 Carpenter Lane\, Philadelphia\, PA\, 19119\, United States
CATEGORIES:General PTA Membership,Local Event,PTA Event
ATTACH;FMTTYPE=image/png:https://www.cwhenrypta.org/wp-content/uploads/2025/10/campus-garden-cleanup-20251108.png
END:VEVENT
END:VCALENDAR