BEGIN:VCALENDAR
VERSION:2.0
PRODID:-//C.W. Henry School PTA - ECPv6.15.20//NONSGML v1.0//EN
CALSCALE:GREGORIAN
METHOD:PUBLISH
X-WR-CALNAME:C.W. Henry School PTA
X-ORIGINAL-URL:https://www.cwhenrypta.org
X-WR-CALDESC:Events for C.W. Henry School PTA
REFRESH-INTERVAL;VALUE=DURATION:PT1H
X-Robots-Tag:noindex
X-PUBLISHED-TTL:PT1H
BEGIN:VTIMEZONE
TZID:America/New_York
BEGIN:DAYLIGHT
TZOFFSETFROM:-0500
TZOFFSETTO:-0400
TZNAME:EDT
DTSTART:20250309T070000
END:DAYLIGHT
BEGIN:STANDARD
TZOFFSETFROM:-0400
TZOFFSETTO:-0500
TZNAME:EST
DTSTART:20251102T060000
END:STANDARD
BEGIN:DAYLIGHT
TZOFFSETFROM:-0500
TZOFFSETTO:-0400
TZNAME:EDT
DTSTART:20260308T070000
END:DAYLIGHT
BEGIN:STANDARD
TZOFFSETFROM:-0400
TZOFFSETTO:-0500
TZNAME:EST
DTSTART:20261101T060000
END:STANDARD
BEGIN:DAYLIGHT
TZOFFSETFROM:-0500
TZOFFSETTO:-0400
TZNAME:EDT
DTSTART:20270314T070000
END:DAYLIGHT
BEGIN:STANDARD
TZOFFSETFROM:-0400
TZOFFSETTO:-0500
TZNAME:EST
DTSTART:20271107T060000
END:STANDARD
END:VTIMEZONE
BEGIN:VEVENT
DTSTART;TZID=America/New_York:20260513T190000
DTEND;TZID=America/New_York:20260513T203000
DTSTAMP:20260422T131754
CREATED:20251002T020227Z
LAST-MODIFIED:20251005T204213Z
UID:5976-1778698800-1778704200@www.cwhenrypta.org
SUMMARY:PTA General Meeting - May 2026
DESCRIPTION:Members of the C.W. Henry community are warmly invited to join us for our upcoming PTA meeting to find out more about upcoming fun PTA activities and initiatives in the works and share your ideas! Kiddos welcome. Refreshments provided. \nWe will also have raffle prizes at the meeting! \nAdditionally\, we will cover Board Elections and the 2026-27 Budget Vote. 
URL:https://www.cwhenrypta.org/event/pta-general-meeting-20260513/
LOCATION:Summit Presbyterian Church\, 6757 Greene Street\, Philadelphia\, PA\, United States
CATEGORIES:General PTA Membership
ATTACH;FMTTYPE=image/png:https://www.cwhenrypta.org/wp-content/uploads/2025/10/PTA-Meeting-20260513.png
END:VEVENT
END:VCALENDAR