BEGIN:VCALENDAR
VERSION:2.0
PRODID:-//C.W. Henry School PTA - ECPv6.15.20//NONSGML v1.0//EN
CALSCALE:GREGORIAN
METHOD:PUBLISH
X-ORIGINAL-URL:https://www.cwhenrypta.org
X-WR-CALDESC:Events for C.W. Henry School PTA
REFRESH-INTERVAL;VALUE=DURATION:PT1H
X-Robots-Tag:noindex
X-PUBLISHED-TTL:PT1H
BEGIN:VTIMEZONE
TZID:America/New_York
BEGIN:DAYLIGHT
TZOFFSETFROM:-0500
TZOFFSETTO:-0400
TZNAME:EDT
DTSTART:20160313T070000
END:DAYLIGHT
BEGIN:STANDARD
TZOFFSETFROM:-0400
TZOFFSETTO:-0500
TZNAME:EST
DTSTART:20161106T060000
END:STANDARD
BEGIN:DAYLIGHT
TZOFFSETFROM:-0500
TZOFFSETTO:-0400
TZNAME:EDT
DTSTART:20170312T070000
END:DAYLIGHT
BEGIN:STANDARD
TZOFFSETFROM:-0400
TZOFFSETTO:-0500
TZNAME:EST
DTSTART:20171105T060000
END:STANDARD
BEGIN:DAYLIGHT
TZOFFSETFROM:-0500
TZOFFSETTO:-0400
TZNAME:EDT
DTSTART:20180311T070000
END:DAYLIGHT
BEGIN:STANDARD
TZOFFSETFROM:-0400
TZOFFSETTO:-0500
TZNAME:EST
DTSTART:20181104T060000
END:STANDARD
BEGIN:DAYLIGHT
TZOFFSETFROM:-0500
TZOFFSETTO:-0400
TZNAME:EDT
DTSTART:20190310T070000
END:DAYLIGHT
BEGIN:STANDARD
TZOFFSETFROM:-0400
TZOFFSETTO:-0500
TZNAME:EST
DTSTART:20191103T060000
END:STANDARD
BEGIN:DAYLIGHT
TZOFFSETFROM:-0500
TZOFFSETTO:-0400
TZNAME:EDT
DTSTART:20200308T070000
END:DAYLIGHT
BEGIN:STANDARD
TZOFFSETFROM:-0400
TZOFFSETTO:-0500
TZNAME:EST
DTSTART:20201101T060000
END:STANDARD
BEGIN:DAYLIGHT
TZOFFSETFROM:-0500
TZOFFSETTO:-0400
TZNAME:EDT
DTSTART:20210314T070000
END:DAYLIGHT
BEGIN:STANDARD
TZOFFSETFROM:-0400
TZOFFSETTO:-0500
TZNAME:EST
DTSTART:20211107T060000
END:STANDARD
BEGIN:DAYLIGHT
TZOFFSETFROM:-0500
TZOFFSETTO:-0400
TZNAME:EDT
DTSTART:20220313T070000
END:DAYLIGHT
BEGIN:STANDARD
TZOFFSETFROM:-0400
TZOFFSETTO:-0500
TZNAME:EST
DTSTART:20221106T060000
END:STANDARD
BEGIN:DAYLIGHT
TZOFFSETFROM:-0500
TZOFFSETTO:-0400
TZNAME:EDT
DTSTART:20230312T070000
END:DAYLIGHT
BEGIN:STANDARD
TZOFFSETFROM:-0400
TZOFFSETTO:-0500
TZNAME:EST
DTSTART:20231105T060000
END:STANDARD
BEGIN:DAYLIGHT
TZOFFSETFROM:-0500
TZOFFSETTO:-0400
TZNAME:EDT
DTSTART:20240310T070000
END:DAYLIGHT
BEGIN:STANDARD
TZOFFSETFROM:-0400
TZOFFSETTO:-0500
TZNAME:EST
DTSTART:20241103T060000
END:STANDARD
BEGIN:DAYLIGHT
TZOFFSETFROM:-0500
TZOFFSETTO:-0400
TZNAME:EDT
DTSTART:20250309T070000
END:DAYLIGHT
BEGIN:STANDARD
TZOFFSETFROM:-0400
TZOFFSETTO:-0500
TZNAME:EST
DTSTART:20251102T060000
END:STANDARD
END:VTIMEZONE
BEGIN:VEVENT
DTSTART;TZID=America/New_York:20240918T190000
DTEND;TZID=America/New_York:20240918T203000
DTSTAMP:20260422T175237
CREATED:20240901T183953Z
LAST-MODIFIED:20240904T133117Z
UID:5618-1726686000-1726691400@www.cwhenrypta.org
SUMMARY:PTA General Meeting - September 2024
DESCRIPTION:Rain location: Summit Presbyterian Church Parlor (6757 Greene Street\, entrance on Greene St)
URL:https://www.cwhenrypta.org/event/pta-general-meeting-september-2024/
LOCATION:Kindergarten Playground
CATEGORIES:General PTA Membership,PTA Event
ATTACH;FMTTYPE=image/png:https://www.cwhenrypta.org/wp-content/uploads/2024/09/PTA-Meeting-20240918.png
END:VEVENT
BEGIN:VEVENT
DTSTART;TZID=America/New_York:20240514T190000
DTEND;TZID=America/New_York:20240514T200000
DTSTAMP:20260422T175237
CREATED:20231015T204912Z
LAST-MODIFIED:20231015T204912Z
UID:5386-1715713200-1715716800@www.cwhenrypta.org
SUMMARY:PTA General Meeting - May 2024
DESCRIPTION:In Person Meeting \nMore Details to Come Soon!
URL:https://www.cwhenrypta.org/event/pta-general-meeting-may-2024/
LOCATION:PA
CATEGORIES:General PTA Membership,PTA Event
ATTACH;FMTTYPE=image/jpeg:https://www.cwhenrypta.org/wp-content/uploads/2023/10/may-pta-meeting-large-20240514.jpg
END:VEVENT
BEGIN:VEVENT
DTSTART;TZID=America/New_York:20240416T190000
DTEND;TZID=America/New_York:20240416T200000
DTSTAMP:20260422T175237
CREATED:20231013T011755Z
LAST-MODIFIED:20231013T011755Z
UID:5377-1713294000-1713297600@www.cwhenrypta.org
SUMMARY:PTA General Meeting - April 2024
DESCRIPTION:Join the meeting HERE.
URL:https://www.cwhenrypta.org/event/pta-general-meeting-april-2024/
LOCATION:Zoom
CATEGORIES:General PTA Membership,PTA Event
ATTACH;FMTTYPE=image/jpeg:https://www.cwhenrypta.org/wp-content/uploads/2023/10/april-pta-meeting-large-20240416.jpg
END:VEVENT
BEGIN:VEVENT
DTSTART;TZID=America/New_York:20240319T190000
DTEND;TZID=America/New_York:20240319T200000
DTSTAMP:20260422T175237
CREATED:20231013T011213Z
LAST-MODIFIED:20231013T011213Z
UID:5374-1710874800-1710878400@www.cwhenrypta.org
SUMMARY:PTA General Meeting - March 2024
DESCRIPTION:Join meeting HERE.
URL:https://www.cwhenrypta.org/event/pta-general-meeting-march-2024/
LOCATION:Zoom
CATEGORIES:General PTA Membership,PTA Event
ATTACH;FMTTYPE=image/jpeg:https://www.cwhenrypta.org/wp-content/uploads/2023/10/march-pta-meeting-large-20240319.jpg
END:VEVENT
BEGIN:VEVENT
DTSTART;TZID=America/New_York:20240220T190000
DTEND;TZID=America/New_York:20240220T200000
DTSTAMP:20260422T175237
CREATED:20231015T204742Z
LAST-MODIFIED:20231015T204742Z
UID:5383-1708455600-1708459200@www.cwhenrypta.org
SUMMARY:PTA General Meeting - February 2024
DESCRIPTION:In Person Meeting \nMore Details to Come Soon!
URL:https://www.cwhenrypta.org/event/pta-general-meeting-february-2024/
LOCATION:PA
CATEGORIES:General PTA Membership,PTA Event
ATTACH;FMTTYPE=image/jpeg:https://www.cwhenrypta.org/wp-content/uploads/2023/10/February-PTA-MEETING-large-20240220.jpg
END:VEVENT
BEGIN:VEVENT
DTSTART;TZID=America/New_York:20240123T190000
DTEND;TZID=America/New_York:20240123T200000
DTSTAMP:20260422T175237
CREATED:20231013T010547Z
LAST-MODIFIED:20231119T173745Z
UID:5371-1706036400-1706040000@www.cwhenrypta.org
SUMMARY:PTA General Meeting - January 2024
DESCRIPTION:Join meeting HERE.
URL:https://www.cwhenrypta.org/event/pta-general-meeting-january-2024/
LOCATION:Zoom
CATEGORIES:General PTA Membership,PTA Event
ATTACH;FMTTYPE=image/jpeg:https://www.cwhenrypta.org/wp-content/uploads/2023/10/January-PTA-Meeting-large-20240116.jpg
END:VEVENT
BEGIN:VEVENT
DTSTART;TZID=America/New_York:20231212T190000
DTEND;TZID=America/New_York:20231212T200000
DTSTAMP:20260422T175237
CREATED:20231013T005643Z
LAST-MODIFIED:20231013T005643Z
UID:5368-1702407600-1702411200@www.cwhenrypta.org
SUMMARY:PTA General Meeting - December 2023
DESCRIPTION:Join meeting HERE.
URL:https://www.cwhenrypta.org/event/pta-general-meeting-december-2023/
LOCATION:Zoom
CATEGORIES:General PTA Membership,PTA Event
ATTACH;FMTTYPE=image/jpeg:https://www.cwhenrypta.org/wp-content/uploads/2023/10/december-meeting-large-20231212.jpg
END:VEVENT
BEGIN:VEVENT
DTSTART;TZID=America/New_York:20231114T190000
DTEND;TZID=America/New_York:20231114T200000
DTSTAMP:20260422T175237
CREATED:20231015T204538Z
LAST-MODIFIED:20231110T211914Z
UID:5380-1699988400-1699992000@www.cwhenrypta.org
SUMMARY:PTA General Meeting - November 2023
DESCRIPTION:Please join meeting HERE.
URL:https://www.cwhenrypta.org/event/pta-general-meeting-november-2023/
LOCATION:Zoom
CATEGORIES:General PTA Membership,PTA Event
ATTACH;FMTTYPE=image/jpeg:https://www.cwhenrypta.org/wp-content/uploads/2023/10/November-PTA-Meeting-large-20231114.jpg
END:VEVENT
BEGIN:VEVENT
DTSTART;TZID=America/New_York:20231017T190000
DTEND;TZID=America/New_York:20231017T200000
DTSTAMP:20260422T175237
CREATED:20231013T004309Z
LAST-MODIFIED:20231013T004309Z
UID:5365-1697569200-1697572800@www.cwhenrypta.org
SUMMARY:PTA General Meeting - October 2023
DESCRIPTION:Join meeting HERE.
URL:https://www.cwhenrypta.org/event/pta-general-meeting-october-2023/
LOCATION:Zoom
CATEGORIES:General PTA Membership,PTA Event
ATTACH;FMTTYPE=image/jpeg:https://www.cwhenrypta.org/wp-content/uploads/2023/10/october-meeting-large-20231017.jpg
END:VEVENT
BEGIN:VEVENT
DTSTART;TZID=America/New_York:20230926T190000
DTEND;TZID=America/New_York:20230926T200000
DTSTAMP:20260422T175237
CREATED:20230921T001738Z
LAST-MODIFIED:20230921T001738Z
UID:5355-1695754800-1695758400@www.cwhenrypta.org
SUMMARY:PTA General Meeting - September 2023
DESCRIPTION:Join the meeting HERE.
URL:https://www.cwhenrypta.org/event/pta-general-meeting-september-2023/
LOCATION:Zoom
CATEGORIES:General PTA Membership,PTA Event
ATTACH;FMTTYPE=image/jpeg:https://www.cwhenrypta.org/wp-content/uploads/2023/09/PTA-Meeting-large-20230926.jpg
END:VEVENT
BEGIN:VEVENT
DTSTART;TZID=America/New_York:20230822T180000
DTEND;TZID=America/New_York:20230822T193000
DTSTAMP:20260422T175237
CREATED:20230815T160818Z
LAST-MODIFIED:20230815T160818Z
UID:5272-1692727200-1692732600@www.cwhenrypta.org
SUMMARY:PTA General Meeting - August 2023
DESCRIPTION:
URL:https://www.cwhenrypta.org/event/pta-general-meeting-august-2023/
LOCATION:Kindergarten Playground
CATEGORIES:General PTA Membership,PTA Event
ATTACH;FMTTYPE=image/jpeg:https://www.cwhenrypta.org/wp-content/uploads/2023/08/PTA-Meeting-large-August-2023.jpg
END:VEVENT
BEGIN:VEVENT
DTSTART;TZID=America/New_York:20230523T200000
DTEND;TZID=America/New_York:20230523T210000
DTSTAMP:20260422T175237
CREATED:20221010T155216Z
LAST-MODIFIED:20230519T132921Z
UID:4853-1684872000-1684875600@www.cwhenrypta.org
SUMMARY:PTA Meeting - May 2023
DESCRIPTION:Please join meeting HERE.
URL:https://www.cwhenrypta.org/event/pta-meeting-may-2023/
LOCATION:Zoom
CATEGORIES:General PTA Membership,PTA Event
ATTACH;FMTTYPE=image/png:https://www.cwhenrypta.org/wp-content/uploads/2022/10/PTA-Meeting-May-2023.png
END:VEVENT
BEGIN:VEVENT
DTSTART;TZID=America/New_York:20230323T193000
DTEND;TZID=America/New_York:20230323T203000
DTSTAMP:20260422T175237
CREATED:20230321T135930Z
LAST-MODIFIED:20230321T135930Z
UID:5081-1679599800-1679603400@www.cwhenrypta.org
SUMMARY:Garden Committee Meeting
DESCRIPTION:Please join the meeting HERE.
URL:https://www.cwhenrypta.org/event/garden-committee-meeting-20230323/
LOCATION:Zoom
CATEGORIES:General PTA Membership,PTA Event
ATTACH;FMTTYPE=image/jpeg:https://www.cwhenrypta.org/wp-content/uploads/2023/03/Garden-Committee-Meeting-20230323.jpg
END:VEVENT
BEGIN:VEVENT
DTSTART;TZID=America/New_York:20230314T200000
DTEND;TZID=America/New_York:20230314T210000
DTSTAMP:20260422T175237
CREATED:20221010T154907Z
LAST-MODIFIED:20230306T221602Z
UID:4849-1678824000-1678827600@www.cwhenrypta.org
SUMMARY:PTA Meeting - March 2023
DESCRIPTION:Join the meeting HERE.
URL:https://www.cwhenrypta.org/event/pta-meeting-march-2023/
LOCATION:Zoom
CATEGORIES:General PTA Membership,PTA Event
ATTACH;FMTTYPE=image/jpeg:https://www.cwhenrypta.org/wp-content/uploads/2022/10/PTA-Meeting-March-2023.jpg
END:VEVENT
BEGIN:VEVENT
DTSTART;TZID=America/New_York:20230221T200000
DTEND;TZID=America/New_York:20230221T210000
DTSTAMP:20260422T175237
CREATED:20221010T153620Z
LAST-MODIFIED:20230214T152330Z
UID:4845-1677009600-1677013200@www.cwhenrypta.org
SUMMARY:PTA Meeting - February 2023
DESCRIPTION:Join the meeting HERE.
URL:https://www.cwhenrypta.org/event/pta-meeting-february-2023/
LOCATION:Zoom
CATEGORIES:General PTA Membership,PTA Event
ATTACH;FMTTYPE=image/png:https://www.cwhenrypta.org/wp-content/uploads/2022/10/PTA-Meeting-February-2023.png
END:VEVENT
BEGIN:VEVENT
DTSTART;TZID=America/New_York:20230117T200000
DTEND;TZID=America/New_York:20230117T210000
DTSTAMP:20260422T175237
CREATED:20221010T153408Z
LAST-MODIFIED:20230106T005649Z
UID:4843-1673985600-1673989200@www.cwhenrypta.org
SUMMARY:PTA Meeting - January 2023
DESCRIPTION:Join the meeting HERE.
URL:https://www.cwhenrypta.org/event/pta-meeting-january-2023/
LOCATION:Zoom
CATEGORIES:General PTA Membership,PTA Event
ATTACH;FMTTYPE=image/png:https://www.cwhenrypta.org/wp-content/uploads/2022/10/PTA-Meeting-January-2023.png
END:VEVENT
BEGIN:VEVENT
DTSTART;TZID=America/New_York:20221213T200000
DTEND;TZID=America/New_York:20221213T210000
DTSTAMP:20260422T175237
CREATED:20221010T153253Z
LAST-MODIFIED:20221212T142116Z
UID:4841-1670961600-1670965200@www.cwhenrypta.org
SUMMARY:PTA Meeting - December 2022
DESCRIPTION:Join the PTA Meeting HERE.
URL:https://www.cwhenrypta.org/event/pta-meeting-december-2022/
LOCATION:Zoom
CATEGORIES:General PTA Membership,PTA Event
ATTACH;FMTTYPE=image/png:https://www.cwhenrypta.org/wp-content/uploads/2022/10/PTA-Meeting-December-2022.png
END:VEVENT
BEGIN:VEVENT
DTSTART;TZID=America/New_York:20221115T200000
DTEND;TZID=America/New_York:20221115T210000
DTSTAMP:20260422T175237
CREATED:20221010T153010Z
LAST-MODIFIED:20221109T194621Z
UID:4837-1668542400-1668546000@www.cwhenrypta.org
SUMMARY:PTA Meeting - November 2022
DESCRIPTION:Join the meeting HERE
URL:https://www.cwhenrypta.org/event/pta-meeting-november-2022/
LOCATION:Zoom
CATEGORIES:General PTA Membership,PTA Event
ATTACH;FMTTYPE=image/png:https://www.cwhenrypta.org/wp-content/uploads/2022/10/PTA-Meeting-November-2022.png
END:VEVENT
BEGIN:VEVENT
DTSTART;TZID=America/New_York:20221018T183000
DTEND;TZID=America/New_York:20221018T193000
DTSTAMP:20260422T175237
CREATED:20221010T152744Z
LAST-MODIFIED:20221018T223726Z
UID:4833-1666117800-1666121400@www.cwhenrypta.org
SUMMARY:PTA Meeting - October 2022
DESCRIPTION:Virtual Only\n  \nIn person in the school cafeteria\, with a Zoom option. \nJoin Zoom meeting HERE.
URL:https://www.cwhenrypta.org/event/pta-meeting-october-2022/
LOCATION:Zoom
CATEGORIES:General PTA Membership,PTA Event
ATTACH;FMTTYPE=image/png:https://www.cwhenrypta.org/wp-content/uploads/2022/10/PTA-Meeting-October-2022.png
END:VEVENT
BEGIN:VEVENT
DTSTART;TZID=America/New_York:20220315T200000
DTEND;TZID=America/New_York:20220315T210000
DTSTAMP:20260422T175237
CREATED:20210903T161628Z
LAST-MODIFIED:20220315T202532Z
UID:3820-1647374400-1647378000@www.cwhenrypta.org
SUMMARY:PTA Meeting - March 2022
DESCRIPTION:Join Zoom meeting HERE.
URL:https://www.cwhenrypta.org/event/pta-meeting-march-2022/
LOCATION:Zoom
CATEGORIES:General PTA Membership,PTA Event
ATTACH;FMTTYPE=image/png:https://www.cwhenrypta.org/wp-content/uploads/2021/09/March-2022-PTA-Meeting.png
END:VEVENT
BEGIN:VEVENT
DTSTART;TZID=America/New_York:20180821T180000
DTEND;TZID=America/New_York:20180821T180000
DTSTAMP:20260422T175237
CREATED:20180624T124509Z
LAST-MODIFIED:20180624T124509Z
UID:2885-1534874400-1534874400@www.cwhenrypta.org
SUMMARY:August PTA Meeting
DESCRIPTION:Please join us in the garden for the first PTA meeting of the year.  Please note the earlier start time.
URL:https://www.cwhenrypta.org/event/august-pta-meeting/
LOCATION:C.W. Henry School\, 601 Carpenter Lane\, Philadelphia\, PA\, 19119\, United States
CATEGORIES:General PTA Membership
END:VEVENT
BEGIN:VEVENT
DTSTART;TZID=America/New_York:20180522T183000
DTEND;TZID=America/New_York:20180522T193000
DTSTAMP:20260422T175237
CREATED:20170924T204835Z
LAST-MODIFIED:20170924T204835Z
UID:2284-1527013800-1527017400@www.cwhenrypta.org
SUMMARY:PTA Meeting
DESCRIPTION:Elections will take place during this meeting for the 2-18-19 school year’s PTA Board positions.
URL:https://www.cwhenrypta.org/event/pta-meeting-16/
LOCATION:PA
CATEGORIES:General PTA Membership
END:VEVENT
BEGIN:VEVENT
DTSTART;TZID=America/New_York:20180417T183000
DTEND;TZID=America/New_York:20180417T193000
DTSTAMP:20260422T175237
CREATED:20170924T204732Z
LAST-MODIFIED:20170924T204732Z
UID:2283-1523989800-1523993400@www.cwhenrypta.org
SUMMARY:PTA Family Fun Night
DESCRIPTION:
URL:https://www.cwhenrypta.org/event/pta-family-fun-night-4/
LOCATION:PA
CATEGORIES:General PTA Membership
END:VEVENT
BEGIN:VEVENT
DTSTART;TZID=America/New_York:20180327T183000
DTEND;TZID=America/New_York:20180327T193000
DTSTAMP:20260422T175237
CREATED:20170924T204639Z
LAST-MODIFIED:20180320T225723Z
UID:2282-1522175400-1522179000@www.cwhenrypta.org
SUMMARY:PTA Meeting
DESCRIPTION:
URL:https://www.cwhenrypta.org/event/pta-meeting-15/
LOCATION:PA
CATEGORIES:General PTA Membership
END:VEVENT
BEGIN:VEVENT
DTSTART;TZID=America/New_York:20180213T183000
DTEND;TZID=America/New_York:20180213T193000
DTSTAMP:20260422T175237
CREATED:20170924T204603Z
LAST-MODIFIED:20170924T204603Z
UID:2281-1518546600-1518550200@www.cwhenrypta.org
SUMMARY:PTA Family Fun Night
DESCRIPTION:
URL:https://www.cwhenrypta.org/event/pta-family-fun-night-3/
LOCATION:PA
CATEGORIES:General PTA Membership
END:VEVENT
BEGIN:VEVENT
DTSTART;TZID=America/New_York:20180123T183000
DTEND;TZID=America/New_York:20180123T193000
DTSTAMP:20260422T175237
CREATED:20170924T204526Z
LAST-MODIFIED:20170924T204526Z
UID:2280-1516732200-1516735800@www.cwhenrypta.org
SUMMARY:PTA Meeting
DESCRIPTION:
URL:https://www.cwhenrypta.org/event/pta-meeting-14/
LOCATION:PA
CATEGORIES:General PTA Membership
END:VEVENT
BEGIN:VEVENT
DTSTART;TZID=America/New_York:20171219T183000
DTEND;TZID=America/New_York:20171219T183000
DTSTAMP:20260422T175237
CREATED:20170924T204445Z
LAST-MODIFIED:20170924T211351Z
UID:2279-1513708200-1513708200@www.cwhenrypta.org
SUMMARY:PTA Family Fun Night
DESCRIPTION:
URL:https://www.cwhenrypta.org/event/pta-family-fun-night-2/
LOCATION:PA
CATEGORIES:General PTA Membership
END:VEVENT
BEGIN:VEVENT
DTSTART;TZID=America/New_York:20171114T183000
DTEND;TZID=America/New_York:20171114T193000
DTSTAMP:20260422T175237
CREATED:20170924T204130Z
LAST-MODIFIED:20170924T204130Z
UID:2275-1510684200-1510687800@www.cwhenrypta.org
SUMMARY:PTA Meeting
DESCRIPTION:
URL:https://www.cwhenrypta.org/event/pta-meeting-13/
LOCATION:PA
CATEGORIES:General PTA Membership
END:VEVENT
BEGIN:VEVENT
DTSTART;TZID=America/New_York:20171017T183000
DTEND;TZID=America/New_York:20171017T193000
DTSTAMP:20260422T175237
CREATED:20170924T204053Z
LAST-MODIFIED:20170924T211443Z
UID:2274-1508265000-1508268600@www.cwhenrypta.org
SUMMARY:PTA Meeting
DESCRIPTION:
URL:https://www.cwhenrypta.org/event/pta-meeting-12/
LOCATION:PA
CATEGORIES:General PTA Membership
END:VEVENT
BEGIN:VEVENT
DTSTART;TZID=America/New_York:20170822T183000
DTEND;TZID=America/New_York:20170822T200000
DTSTAMP:20260422T175237
CREATED:20170821T230407Z
LAST-MODIFIED:20170821T233506Z
UID:2227-1503426600-1503432000@www.cwhenrypta.org
SUMMARY:PTA Meeting
DESCRIPTION:
URL:https://www.cwhenrypta.org/event/pta-meeting-11/
LOCATION:PA
CATEGORIES:General PTA Membership
END:VEVENT
END:VCALENDAR