BEGIN:VCALENDAR
VERSION:2.0
PRODID:-//C.W. Henry School PTA - ECPv6.15.20//NONSGML v1.0//EN
CALSCALE:GREGORIAN
METHOD:PUBLISH
X-ORIGINAL-URL:https://www.cwhenrypta.org
X-WR-CALDESC:Events for C.W. Henry School PTA
REFRESH-INTERVAL;VALUE=DURATION:PT1H
X-Robots-Tag:noindex
X-PUBLISHED-TTL:PT1H
BEGIN:VTIMEZONE
TZID:America/New_York
BEGIN:DAYLIGHT
TZOFFSETFROM:-0500
TZOFFSETTO:-0400
TZNAME:EDT
DTSTART:20240310T070000
END:DAYLIGHT
BEGIN:STANDARD
TZOFFSETFROM:-0400
TZOFFSETTO:-0500
TZNAME:EST
DTSTART:20241103T060000
END:STANDARD
BEGIN:DAYLIGHT
TZOFFSETFROM:-0500
TZOFFSETTO:-0400
TZNAME:EDT
DTSTART:20250309T070000
END:DAYLIGHT
BEGIN:STANDARD
TZOFFSETFROM:-0400
TZOFFSETTO:-0500
TZNAME:EST
DTSTART:20251102T060000
END:STANDARD
BEGIN:DAYLIGHT
TZOFFSETFROM:-0500
TZOFFSETTO:-0400
TZNAME:EDT
DTSTART:20260308T070000
END:DAYLIGHT
BEGIN:STANDARD
TZOFFSETFROM:-0400
TZOFFSETTO:-0500
TZNAME:EST
DTSTART:20261101T060000
END:STANDARD
END:VTIMEZONE
BEGIN:VEVENT
DTSTART;TZID=America/New_York:20250605T083000
DTEND;TZID=America/New_York:20250605T151500
DTSTAMP:20260425T113445
CREATED:20250505T151651Z
LAST-MODIFIED:20250505T151723Z
UID:5767-1749112200-1749136500@www.cwhenrypta.org
SUMMARY:Spring Festival - 2025
DESCRIPTION:Details coming soon – but we need lots of helpers to make this event run smoothly for all grades K-8.  \nSign up to volunteer here: bit.ly/25springfestival.
URL:https://www.cwhenrypta.org/event/spring-festival-2025/
LOCATION:C.W. Henry School\, 601 Carpenter Lane\, Philadelphia\, PA\, 19119\, United States
CATEGORIES:Family Fun,PTA Event,School Event
END:VEVENT
END:VCALENDAR