BEGIN:VCALENDAR
VERSION:2.0
PRODID:-//C.W. Henry School PTA - ECPv6.15.20//NONSGML v1.0//EN
CALSCALE:GREGORIAN
METHOD:PUBLISH
X-ORIGINAL-URL:https://www.cwhenrypta.org
X-WR-CALDESC:Events for C.W. Henry School PTA
REFRESH-INTERVAL;VALUE=DURATION:PT1H
X-Robots-Tag:noindex
X-PUBLISHED-TTL:PT1H
BEGIN:VTIMEZONE
TZID:America/New_York
BEGIN:DAYLIGHT
TZOFFSETFROM:-0500
TZOFFSETTO:-0400
TZNAME:EDT
DTSTART:20170312T070000
END:DAYLIGHT
BEGIN:STANDARD
TZOFFSETFROM:-0400
TZOFFSETTO:-0500
TZNAME:EST
DTSTART:20171105T060000
END:STANDARD
BEGIN:DAYLIGHT
TZOFFSETFROM:-0500
TZOFFSETTO:-0400
TZNAME:EDT
DTSTART:20180311T070000
END:DAYLIGHT
BEGIN:STANDARD
TZOFFSETFROM:-0400
TZOFFSETTO:-0500
TZNAME:EST
DTSTART:20181104T060000
END:STANDARD
BEGIN:DAYLIGHT
TZOFFSETFROM:-0500
TZOFFSETTO:-0400
TZNAME:EDT
DTSTART:20190310T070000
END:DAYLIGHT
BEGIN:STANDARD
TZOFFSETFROM:-0400
TZOFFSETTO:-0500
TZNAME:EST
DTSTART:20191103T060000
END:STANDARD
BEGIN:DAYLIGHT
TZOFFSETFROM:-0500
TZOFFSETTO:-0400
TZNAME:EDT
DTSTART:20200308T070000
END:DAYLIGHT
BEGIN:STANDARD
TZOFFSETFROM:-0400
TZOFFSETTO:-0500
TZNAME:EST
DTSTART:20201101T060000
END:STANDARD
BEGIN:DAYLIGHT
TZOFFSETFROM:-0500
TZOFFSETTO:-0400
TZNAME:EDT
DTSTART:20210314T070000
END:DAYLIGHT
BEGIN:STANDARD
TZOFFSETFROM:-0400
TZOFFSETTO:-0500
TZNAME:EST
DTSTART:20211107T060000
END:STANDARD
BEGIN:DAYLIGHT
TZOFFSETFROM:-0500
TZOFFSETTO:-0400
TZNAME:EDT
DTSTART:20220313T070000
END:DAYLIGHT
BEGIN:STANDARD
TZOFFSETFROM:-0400
TZOFFSETTO:-0500
TZNAME:EST
DTSTART:20221106T060000
END:STANDARD
BEGIN:DAYLIGHT
TZOFFSETFROM:-0500
TZOFFSETTO:-0400
TZNAME:EDT
DTSTART:20230312T070000
END:DAYLIGHT
BEGIN:STANDARD
TZOFFSETFROM:-0400
TZOFFSETTO:-0500
TZNAME:EST
DTSTART:20231105T060000
END:STANDARD
BEGIN:DAYLIGHT
TZOFFSETFROM:-0500
TZOFFSETTO:-0400
TZNAME:EDT
DTSTART:20240310T070000
END:DAYLIGHT
BEGIN:STANDARD
TZOFFSETFROM:-0400
TZOFFSETTO:-0500
TZNAME:EST
DTSTART:20241103T060000
END:STANDARD
BEGIN:DAYLIGHT
TZOFFSETFROM:-0500
TZOFFSETTO:-0400
TZNAME:EDT
DTSTART:20250309T070000
END:DAYLIGHT
BEGIN:STANDARD
TZOFFSETFROM:-0400
TZOFFSETTO:-0500
TZNAME:EST
DTSTART:20251102T060000
END:STANDARD
BEGIN:DAYLIGHT
TZOFFSETFROM:-0500
TZOFFSETTO:-0400
TZNAME:EDT
DTSTART:20260308T070000
END:DAYLIGHT
BEGIN:STANDARD
TZOFFSETFROM:-0400
TZOFFSETTO:-0500
TZNAME:EST
DTSTART:20261101T060000
END:STANDARD
END:VTIMEZONE
BEGIN:VEVENT
DTSTART;VALUE=DATE:20251110
DTEND;VALUE=DATE:20251115
DTSTAMP:20260425T080640
CREATED:20251107T140505Z
LAST-MODIFIED:20251107T140505Z
UID:6155-1762732800-1763164799@www.cwhenrypta.org
SUMMARY:Teacher & Staff Appreciation Week - Nov. 10-14\, 2025
DESCRIPTION:Let’s show our gratitude to the amazing teachers and staff who make it all possible. The PTA is organizing a Special Breakfast and Staff Lounge Stock-Up the week of November 10th and we’d love your help! \nNon-perishable contributions can be dropped off in the main office anytime during the week of November 10th. \nPerishable items should be brought directly to the Staff Lounge by 8:00 a.m. on Friday\, November 14th. \nSign up to volunteer HERE.
URL:https://www.cwhenrypta.org/event/teacher-staff-appreciation-week-nov-10-14-2025/
LOCATION:C.W. Henry School\, 601 Carpenter Lane\, Philadelphia\, PA\, 19119\, United States
CATEGORIES:PTA Event,School Event
ATTACH;FMTTYPE=image/png:https://www.cwhenrypta.org/wp-content/uploads/2025/11/teacher-staff-appreciation-week.png
END:VEVENT
BEGIN:VEVENT
DTSTART;TZID=America/New_York:20250605T083000
DTEND;TZID=America/New_York:20250605T151500
DTSTAMP:20260425T080640
CREATED:20250505T151651Z
LAST-MODIFIED:20250505T151723Z
UID:5767-1749112200-1749136500@www.cwhenrypta.org
SUMMARY:Spring Festival - 2025
DESCRIPTION:Details coming soon – but we need lots of helpers to make this event run smoothly for all grades K-8.  \nSign up to volunteer here: bit.ly/25springfestival.
URL:https://www.cwhenrypta.org/event/spring-festival-2025/
LOCATION:C.W. Henry School\, 601 Carpenter Lane\, Philadelphia\, PA\, 19119\, United States
CATEGORIES:Family Fun,PTA Event,School Event
END:VEVENT
BEGIN:VEVENT
DTSTART;TZID=America/New_York:20250502T173000
DTEND;TZID=America/New_York:20250502T193000
DTSTAMP:20260425T080640
CREATED:20250424T221715Z
LAST-MODIFIED:20250424T221715Z
UID:5740-1746207000-1746214200@www.cwhenrypta.org
SUMMARY:Lower School Dance - 2025
DESCRIPTION:Join us at the C.W. Henry Lower School Dance on Friday\, May 2\, 2025! The dance begins at 5:30 pm and ends at 7:30 pm and takes place in the Henry schoolyard\, which is transformed for one magical evening into a dance floor for kiddos (and parents!) to bust a move! Musical stylings by the one and only DJ Rob. Tickets and meal tickets can be purchased in advance online (recommended!) or in-person on the night of the event.\n\nThis event is 100% volunteer powered—parent/caregiver volunteers are needed!\n\nPurchase your tickets HERE.\n\nSign up to volunteer HERE.
URL:https://www.cwhenrypta.org/event/lower-school-dance-2025/
LOCATION:C.W. Henry School\, 601 Carpenter Lane\, Philadelphia\, PA\, 19119\, United States
CATEGORIES:Family Fun,Fundraiser,PTA Event,School Event
ATTACH;FMTTYPE=image/png:https://www.cwhenrypta.org/wp-content/uploads/2025/04/lower-school-dance-2025.png
END:VEVENT
BEGIN:VEVENT
DTSTART;TZID=America/New_York:20231204T083000
DTEND;TZID=America/New_York:20231208T150000
DTSTAMP:20260425T080640
CREATED:20231114T161213Z
LAST-MODIFIED:20231114T161213Z
UID:5413-1701678600-1702047600@www.cwhenrypta.org
SUMMARY:Scholastic Book Fair - 2023
DESCRIPTION:📚✨ Exciting times ahead! Join us as we transform the C. W. Henry Kindergarten Lobby into a magical bookstore once again! 🌈📚 We’re calling on all book enthusiasts to lend a helping hand in setting up\, guiding kids through their book selections\, and contributing to fundraising efforts for our school. 🤝 Your support makes a world of difference! 🌟 Let’s come together\, have a blast\, and make this event a memorable success! 🎉📖 📚💖 \n👉 Sign up to volunteer here: https://www.signupgenius.com/go/4090444AEA62CA2FE3-46132207-scholastic#/🌟🤗
URL:https://www.cwhenrypta.org/event/scholastic-book-fair-2023/
LOCATION:C.W. Henry School\, 601 Carpenter Lane\, Philadelphia\, PA\, 19119\, United States
CATEGORIES:Fundraiser,Local Event,PTA Event,School Event
ATTACH;FMTTYPE=image/jpeg:https://www.cwhenrypta.org/wp-content/uploads/2023/11/cw-henry-book-fair-large-202312.jpg
END:VEVENT
BEGIN:VEVENT
DTSTART;VALUE=DATE:20231127
DTEND;VALUE=DATE:20231128
DTSTAMP:20260425T080640
CREATED:20231114T005546Z
LAST-MODIFIED:20231114T005546Z
UID:5411-1701043200-1701129599@www.cwhenrypta.org
SUMMARY:School Closed - Report Card Conferences
DESCRIPTION:
URL:https://www.cwhenrypta.org/event/school-closed-report-card-conferences/
LOCATION:PA
CATEGORIES:School Event
ATTACH;FMTTYPE=image/png:https://www.cwhenrypta.org/wp-content/uploads/2019/09/School-closed.png
END:VEVENT
BEGIN:VEVENT
DTSTART;VALUE=DATE:20230905
DTEND;VALUE=DATE:20230906
DTSTAMP:20260425T080640
CREATED:20230815T180606Z
LAST-MODIFIED:20230815T180606Z
UID:5281-1693872000-1693958399@www.cwhenrypta.org
SUMMARY:First Day of School
DESCRIPTION:
URL:https://www.cwhenrypta.org/event/first-day-of-school-2023/
LOCATION:PA
CATEGORIES:School Event
ATTACH;FMTTYPE=image/jpeg:https://www.cwhenrypta.org/wp-content/uploads/2023/08/first-day-of-school-2023.jpg
END:VEVENT
BEGIN:VEVENT
DTSTART;TZID=America/New_York:20230823T163000
DTEND;TZID=America/New_York:20230823T180000
DTSTAMP:20260425T080640
CREATED:20230815T174211Z
LAST-MODIFIED:20230815T174211Z
UID:5275-1692808200-1692813600@www.cwhenrypta.org
SUMMARY:Meet the Principal
DESCRIPTION:You’re invited to a Meet the Principal Playdate on August 23rd!\nCome meet Principal Len and hang out with your Henry friends next Wednesday\, August 23 from 4:30-6:00pm on the Henry playground. All are welcome!
URL:https://www.cwhenrypta.org/event/meet-the-principal-2023/
LOCATION:C.W. Henry School\, 601 Carpenter Lane\, Philadelphia\, PA\, 19119\, United States
CATEGORIES:School Event
ATTACH;FMTTYPE=image/jpeg:https://www.cwhenrypta.org/wp-content/uploads/2023/08/meet-new-principal-kristy-len-large-20230823.jpg
END:VEVENT
BEGIN:VEVENT
DTSTART;TZID=America/New_York:20230602T080000
DTEND;TZID=America/New_York:20230602T160000
DTSTAMP:20260425T080640
CREATED:20230414T132248Z
LAST-MODIFIED:20230414T134038Z
UID:5156-1685692800-1685721600@www.cwhenrypta.org
SUMMARY:Spring Festival - 2023
DESCRIPTION:Please sign up to volunteer for this event: https://www.signupgenius.com/go/8050f44a9ad2ea4f85-spring2#/
URL:https://www.cwhenrypta.org/event/spring-festival-2023/
LOCATION:C.W. Henry School\, 601 Carpenter Lane\, Philadelphia\, PA\, 19119\, United States
CATEGORIES:Family Fun,PTA Event,School Event
ATTACH;FMTTYPE=image/jpeg:https://www.cwhenrypta.org/wp-content/uploads/2023/04/Spring-Festival-large-2023.jpg
END:VEVENT
BEGIN:VEVENT
DTSTART;TZID=America/New_York:20230414T180000
DTEND;TZID=America/New_York:20230414T200000
DTSTAMP:20260425T080640
CREATED:20230306T175118Z
LAST-MODIFIED:20230306T175118Z
UID:5029-1681495200-1681502400@www.cwhenrypta.org
SUMMARY:Black and White Masquerade Dance
DESCRIPTION:
URL:https://www.cwhenrypta.org/event/black-and-white-masquerade-dance/
LOCATION:The Irish Center\, 6815 Emlen Street\, Philadelphia\, PA\, 19119
CATEGORIES:School Event
ATTACH;FMTTYPE=image/png:https://www.cwhenrypta.org/wp-content/uploads/2023/03/Upper-School-Dance-Save-the-Date-2023.png
END:VEVENT
BEGIN:VEVENT
DTSTART;TZID=America/New_York:20221014T153000
DTEND;TZID=America/New_York:20221014T180000
DTSTAMP:20260425T080640
CREATED:20221013T141401Z
LAST-MODIFIED:20221013T141632Z
UID:4865-1665761400-1665770400@www.cwhenrypta.org
SUMMARY:Holiday Craft Sale - 2022
DESCRIPTION:
URL:https://www.cwhenrypta.org/event/holiday-craft-sale-2022/
LOCATION:School Cafeteria\, 601 Carpenter Street\, Philadelphia\, PA\, 19119
CATEGORIES:Fundraiser,School Event
ATTACH;FMTTYPE=image/png:https://www.cwhenrypta.org/wp-content/uploads/2022/10/Holiday-Craft-Sale-20221014.png
END:VEVENT
BEGIN:VEVENT
DTSTART;TZID=America/New_York:20211210T130000
DTEND;TZID=America/New_York:20211210T170000
DTSTAMP:20260425T080640
CREATED:20211209T150436Z
LAST-MODIFIED:20211209T154938Z
UID:3980-1639141200-1639155600@www.cwhenrypta.org
SUMMARY:Vaccination Clinic
DESCRIPTION:
URL:https://www.cwhenrypta.org/event/vaccination-clinic/
LOCATION:C.W. Henry School\, 601 Carpenter Lane\, Philadelphia\, PA\, 19119\, United States
CATEGORIES:Local Event,PTA Event,School Event
ATTACH;FMTTYPE=image/png:https://www.cwhenrypta.org/wp-content/uploads/2021/12/Henry-Clinic-for-WEB-e1639062483926.png
END:VEVENT
BEGIN:VEVENT
DTSTART;TZID=America/New_York:20200923T170000
DTEND;TZID=America/New_York:20200923T190000
DTSTAMP:20260425T080640
CREATED:20200916T181900Z
LAST-MODIFIED:20200916T181900Z
UID:3634-1600880400-1600887600@www.cwhenrypta.org
SUMMARY:Back to School Night - 2020
DESCRIPTION:Zoom link coming soon!
URL:https://www.cwhenrypta.org/event/back-to-school-night-2020/
LOCATION:Zoom
CATEGORIES:School Event
ATTACH;FMTTYPE=image/png:https://www.cwhenrypta.org/wp-content/uploads/2020/09/Back-to-School-Night-2020.png
END:VEVENT
BEGIN:VEVENT
DTSTART;TZID=America/New_York:20200417T173000
DTEND;TZID=America/New_York:20200417T193000
DTSTAMP:20260425T080640
CREATED:20200310T205427Z
LAST-MODIFIED:20200407T164344Z
UID:3467-1587144600-1587151800@www.cwhenrypta.org
SUMMARY:K-5 Spring Dance
DESCRIPTION:***CANCELLED***
URL:https://www.cwhenrypta.org/event/k-5-spring-dance/
LOCATION:C.W. Henry School\, 601 Carpenter Lane\, Philadelphia\, PA\, 19119\, United States
CATEGORIES:PTA Event,School Event
END:VEVENT
BEGIN:VEVENT
DTSTART;TZID=America/New_York:20200229T150000
DTEND;TZID=America/New_York:20200229T150000
DTSTAMP:20260425T080640
CREATED:20200129T195946Z
LAST-MODIFIED:20200129T195946Z
UID:3431-1582988400-1582988400@www.cwhenrypta.org
SUMMARY:Aladdin Jr
DESCRIPTION:School Musical – Aladdin Jr.\nChildren 14 & under: $5 \nAdults: $10 \n  \nTickets can be purchased at: https://charles-w-henry-school.ticketleap.com/aladdin-jr/ \n 
URL:https://www.cwhenrypta.org/event/aladdin-jr-3/
LOCATION:C.W. Henry School\, 601 Carpenter Lane\, Philadelphia\, PA\, 19119\, United States
CATEGORIES:School Event
ATTACH;FMTTYPE=image/png:https://www.cwhenrypta.org/wp-content/uploads/2020/01/Aladdin.png
END:VEVENT
BEGIN:VEVENT
DTSTART;TZID=America/New_York:20200229T110000
DTEND;TZID=America/New_York:20200229T110000
DTSTAMP:20260425T080640
CREATED:20200129T195904Z
LAST-MODIFIED:20200129T195904Z
UID:3428-1582974000-1582974000@www.cwhenrypta.org
SUMMARY:Aladdin Jr
DESCRIPTION:School Musical – Aladdin Jr.\nChildren 14 & under: $5 \nAdults: $10 \n  \nTickets can be purchased at: https://charles-w-henry-school.ticketleap.com/aladdin-jr/ \n 
URL:https://www.cwhenrypta.org/event/aladdin-jr-2/
LOCATION:C.W. Henry School\, 601 Carpenter Lane\, Philadelphia\, PA\, 19119\, United States
CATEGORIES:School Event
ATTACH;FMTTYPE=image/png:https://www.cwhenrypta.org/wp-content/uploads/2020/01/Aladdin.png
END:VEVENT
BEGIN:VEVENT
DTSTART;TZID=America/New_York:20200228T190000
DTEND;TZID=America/New_York:20200228T190000
DTSTAMP:20260425T080640
CREATED:20200129T195730Z
LAST-MODIFIED:20200129T195730Z
UID:3424-1582916400-1582916400@www.cwhenrypta.org
SUMMARY:Aladdin Jr
DESCRIPTION:School Musical – Aladdin Jr.\nChildren 14 & under: $5 \nAdults: $10 \n  \nTickets can be purchased at: https://charles-w-henry-school.ticketleap.com/aladdin-jr/ \n 
URL:https://www.cwhenrypta.org/event/aladdin-jr/
LOCATION:C.W. Henry School\, 601 Carpenter Lane\, Philadelphia\, PA\, 19119\, United States
CATEGORIES:School Event
ATTACH;FMTTYPE=image/png:https://www.cwhenrypta.org/wp-content/uploads/2020/01/Aladdin.png
END:VEVENT
BEGIN:VEVENT
DTSTART;TZID=America/New_York:20180912T180000
DTEND;TZID=America/New_York:20180912T200000
DTSTAMP:20260425T080640
CREATED:20180908T172904Z
LAST-MODIFIED:20180908T172913Z
UID:2932-1536775200-1536782400@www.cwhenrypta.org
SUMMARY:Back to School Night
DESCRIPTION:
URL:https://www.cwhenrypta.org/event/back-to-school-night-3/
LOCATION:PA
CATEGORIES:School Event
END:VEVENT
BEGIN:VEVENT
DTSTART;VALUE=DATE:20180612
DTEND;VALUE=DATE:20180613
DTSTAMP:20260425T080640
CREATED:20180217T215136Z
LAST-MODIFIED:20180217T215136Z
UID:2491-1528761600-1528847999@www.cwhenrypta.org
SUMMARY:Last Day of School
DESCRIPTION:
URL:https://www.cwhenrypta.org/event/last-day-of-school/
LOCATION:PA
CATEGORIES:School Event
END:VEVENT
BEGIN:VEVENT
DTSTART;VALUE=DATE:20180608
DTEND;VALUE=DATE:20180609
DTSTAMP:20260425T080640
CREATED:20180218T144014Z
LAST-MODIFIED:20180218T144108Z
UID:2530-1528416000-1528502399@www.cwhenrypta.org
SUMMARY:Field Day
DESCRIPTION:
URL:https://www.cwhenrypta.org/event/field-day/
LOCATION:PA
CATEGORIES:PTA Event,School Event
END:VEVENT
BEGIN:VEVENT
DTSTART;VALUE=DATE:20180602
DTEND;VALUE=DATE:20180603
DTSTAMP:20260425T080640
CREATED:20180218T144136Z
LAST-MODIFIED:20180218T144136Z
UID:2531-1527897600-1527983999@www.cwhenrypta.org
SUMMARY:Independence Dragon Boat Regatta
DESCRIPTION:
URL:https://www.cwhenrypta.org/event/independence-dragon-boat-regatta/
LOCATION:PA
CATEGORIES:School Event
END:VEVENT
BEGIN:VEVENT
DTSTART;VALUE=DATE:20180528
DTEND;VALUE=DATE:20180529
DTSTAMP:20260425T080640
CREATED:20180217T215102Z
LAST-MODIFIED:20180217T215107Z
UID:2490-1527465600-1527551999@www.cwhenrypta.org
SUMMARY:Memorial Day: No School
DESCRIPTION:
URL:https://www.cwhenrypta.org/event/memorial-day-no-school-2/
LOCATION:PA
CATEGORIES:School Event
END:VEVENT
BEGIN:VEVENT
DTSTART;VALUE=DATE:20180525
DTEND;VALUE=DATE:20180526
DTSTAMP:20260425T080640
CREATED:20180218T143841Z
LAST-MODIFIED:20180218T143841Z
UID:2528-1527206400-1527292799@www.cwhenrypta.org
SUMMARY:School Carnival
DESCRIPTION:
URL:https://www.cwhenrypta.org/event/school-carnival/
LOCATION:PA
CATEGORIES:School Event
END:VEVENT
BEGIN:VEVENT
DTSTART;TZID=America/New_York:20180524T190000
DTEND;TZID=America/New_York:20180524T200000
DTSTAMP:20260425T080640
CREATED:20180218T143931Z
LAST-MODIFIED:20180218T143931Z
UID:2529-1527188400-1527192000@www.cwhenrypta.org
SUMMARY:Spring Concert
DESCRIPTION:
URL:https://www.cwhenrypta.org/event/spring-concert-3/
LOCATION:PA
CATEGORIES:School Event
END:VEVENT
BEGIN:VEVENT
DTSTART;TZID=America/New_York:20180518T120000
DTEND;TZID=America/New_York:20180518T150000
DTSTAMP:20260425T080640
CREATED:20180217T215031Z
LAST-MODIFIED:20180217T215037Z
UID:2489-1526644800-1526655600@www.cwhenrypta.org
SUMMARY:Early Dismissal
DESCRIPTION:
URL:https://www.cwhenrypta.org/event/early-dismissal-8/
LOCATION:PA
CATEGORIES:School Event
END:VEVENT
BEGIN:VEVENT
DTSTART;VALUE=DATE:20180517
DTEND;VALUE=DATE:20180518
DTSTAMP:20260425T080640
CREATED:20180218T143745Z
LAST-MODIFIED:20180218T143745Z
UID:2526-1526515200-1526601599@www.cwhenrypta.org
SUMMARY:Dancefest
DESCRIPTION:
URL:https://www.cwhenrypta.org/event/dancefest-2/
LOCATION:PA
CATEGORIES:School Event
END:VEVENT
BEGIN:VEVENT
DTSTART;VALUE=DATE:20180515
DTEND;VALUE=DATE:20180516
DTSTAMP:20260425T080640
CREATED:20180217T214956Z
LAST-MODIFIED:20180217T214956Z
UID:2488-1526342400-1526428799@www.cwhenrypta.org
SUMMARY:School Closed: Election Primary Day
DESCRIPTION:
URL:https://www.cwhenrypta.org/event/school-closed-election-primary-day/
LOCATION:PA
CATEGORIES:School Event
END:VEVENT
BEGIN:VEVENT
DTSTART;TZID=America/New_York:20180510T160000
DTEND;TZID=America/New_York:20180510T180000
DTSTAMP:20260425T080640
CREATED:20180218T143715Z
LAST-MODIFIED:20180506T003751Z
UID:2525-1525968000-1525975200@www.cwhenrypta.org
SUMMARY:Art Show
DESCRIPTION:Join us in celebrating our students’ masterpieces.
URL:https://www.cwhenrypta.org/event/art-show-tentative/
LOCATION:PA
CATEGORIES:School Event
END:VEVENT
BEGIN:VEVENT
DTSTART;TZID=America/New_York:20180508T180000
DTEND;TZID=America/New_York:20180508T193000
DTSTAMP:20260425T080640
CREATED:20180429T182230Z
LAST-MODIFIED:20180429T182230Z
UID:2817-1525802400-1525807800@www.cwhenrypta.org
SUMMARY:Oratorical Contest
DESCRIPTION:
URL:https://www.cwhenrypta.org/event/oratorical-contest/
LOCATION:PA
CATEGORIES:School Event
END:VEVENT
BEGIN:VEVENT
DTSTART;VALUE=DATE:20180507
DTEND;VALUE=DATE:20180508
DTSTAMP:20260425T080640
CREATED:20180429T182149Z
LAST-MODIFIED:20180429T182149Z
UID:2816-1525651200-1525737599@www.cwhenrypta.org
SUMMARY:Spring Picture Day
DESCRIPTION:
URL:https://www.cwhenrypta.org/event/spring-picture-day-2/
LOCATION:PA
CATEGORIES:School Event
END:VEVENT
BEGIN:VEVENT
DTSTART;VALUE=DATE:20180504
DTEND;VALUE=DATE:20180505
DTSTAMP:20260425T080640
CREATED:20180218T143434Z
LAST-MODIFIED:20180218T143434Z
UID:2522-1525392000-1525478399@www.cwhenrypta.org
SUMMARY:Upper School Dance
DESCRIPTION:
URL:https://www.cwhenrypta.org/event/upper-school-dance-2/
LOCATION:PA
CATEGORIES:School Event
END:VEVENT
END:VCALENDAR